Workbook
Name Excel_BuiltIn_Print_Area_2: #REF!
Name Excel_BuiltIn_Print_Area_2: #REF!

Sheet ANP
B2: PROMO PROPOSAL | M2: Authrz.No. | P2: :
B3: No. | C3: 043/BNS/II/2024 | M3: Chanel | P3: : | Q3: MT
B4: Date: | C4: =TODAY() -> 45337 | M4: Division | P4: :
B6: Program Name | E6: : | F6: Program Banded Pembelian Noodle Bonus ABC Kecap (Banded Beli 5 Gratis 1 Kecap 60ml)
B7: Attachment | E7: : | F7: Skema & Estimasi Budget
B8: Products | E8: : | F8: Noodle Bag
B9: Area | E9: : | F9: Denpasar
B10: Period | E10: : | F10: 45346
B11: Background | E11: : | F11: Banyakknya persaingan promo Kompetitor untuk produk Noodle
F12: Sebagai stimulus customer terhadap produk abcpi
F13: Meningkatkan sales volume Noodle
F14: Mencapai Target Festive Q1
B15: Mechanism | E15: : | F15: PT. ABCPI bekerjasama dengan distributor BBI untuk pembelian barang bonus berupa kecap
F16: Distributor melakukan pembayaran dengan cara transfer /cash ke penjual
F17: Program berjalan menyesuaikan sistem yang ada di outlet
F18: Team MD & SPG yang akan melakukan eksekusi program banded di store yang terpilih
F19: PT BBI melakukan klaim ke ABC President dengan menggunakan budget Selisih Margin
F21: Area | H21: Sales KPI (volume, distribusi, etc) | M21: Alokasi A&P
F22: Denpasar | H22: =Q34 -> 597.8 | M22: =M49 -> 5616000
B25: Objective | E25: : | F25: Peningkatan Sell Out Beverage & Noodle
C28: Quantitative | F28: in carton | M28: From | Q28: To | U28: % Incr
C29: Estimasi Sales/ bln | F29: NDL | M29: =LAMPIRAN!C9 -> 427 | Q29: =LAMPIRAN!E9 -> 597.8 | U29: =+(Q29-M29)/M29 -> 0.4
C34: Total | M34: =SUM(M29:P33) -> 427 | Q34: =SUM(Q29:T33) -> 597.8 | U34: =+(Q34-M34)/M34 -> 0.4
B36: (Incremental) Sales Projection | M36: From | Q36: To | U36: % Incr
C37: Estimasi Sales / bln | F37: NDL | M37: =LAMPIRAN!D9 -> 44023700 | Q37: =LAMPIRAN!F9 -> 61633180 | U37: =+(Q37-M37)/M37 -> 0.4
G42: Total | M42: =SUM(M37:P41) -> 44023700 | N42: =SUM(#REF!) -> #REF! | O42: =SUM(#REF!) -> #REF! | P42: =SUM(#REF!) -> #REF! | Q42: =SUM(Q37:T41) -> 61633180 | R42: =SUM(#REF!) -> #REF! | S42: =SUM(#REF!) -> #REF! | T42: =SUM(#REF!) -> #REF! | U42: =+(Q42-M42)/M42 -> 0.4
B44: Projected Cost (borne by ABC PI) | M44: cost
C46: Budget Pemebelian Abc Kecap | M46: =LAMPIRAN!F13 -> 5616000
C49: TOTAL | M49: =SUM(M46:P48) -> 5616000 | Q49: =SUM(Q45:Q46) -> 0 | U49: =SUM(U45:U46) -> 0
B51: ROI (cost to sales ratio or cost to incremental sales ratio)
L52: =+M49/Q42 -> 0.091119751
B53: (diisi oleh HO)
B54: No.Account | D54: Deskripsi | H54: A&P Budget | J54: A&P Budget | M54: Sisa A&P Budget | Q54: Pengajuan | U54: Saldo Sisa A&P
H55: 2018 | J55: Terpakai | M55: s/d saat ini | Q55: Proposal
H56: 0 | M56: =H56-J56 -> 0
B60: Other consideration to support this proposal:
B63: Claim | F63: Deadline of claim submission (DD/MM/YYYY) : | O63: 30 | Q63: 6 | S63: 24
F64: Supporting document that will be send :
G65: Original Invoice | K65: Tax Invoice | O65: Tanda Terima Toko
G66: Printed Material | K66: Photographs | O66: Rekap Pengeluaran Bonus
...

Sheet LAMPIRAN
B2: BANDED MIE ABC PACK BELI 5 GRATIS 1 KECAP | I2: KEBUTUHAN
B3: NAMA OUTLET | C3: AVG | D3: AVG RUPIAH | E3: TARGET | F3: RUPIAH | G3: TGT CP IN CTN | H3: TGT CP IN PCS | I3: BELI 5 GRATIS 1 KECAP IN PCS
B4: FRESHINDO | C4: 81 | D4: =C4*103100 -> 8351100 | E4: =C4*1.4 -> 113.4 | F4: =E4*103100 -> 11691540 | G4: =E4*65% -> 73.71 | H4: =G4*40 -> 2948.4 | I4: =H4/5 -> 589.68
B5: BINTANG SUPERMARKET | C5: 35 | D5: =C5*103100 -> 3608500 | E5: =C5*1.4 -> 49 | F5: =E5*103100 -> 5051900 | G5: =E5*65% -> 31.85 | H5: =G5*40 -> 1274 | I5: =H5/5 -> 254.8
B6: CLANDYS | C6: 220 | D6: =C6*103100 -> 22682000 | E6: =C6*1.4 -> 308 | F6: =E6*103100 -> 31754800 | G6: =E6*65% -> 200.2 | H6: =G6*40 -> 8008 | I6: =H6/5 -> 1601.6
B7: IWAKA MART | C7: 40 | D7: =C7*103100 -> 4124000 | E7: =C7*1.4 -> 56 | F7: =E7*103100 -> 5773600 | G7: =E7*65% -> 36.4 | H7: =G7*40 -> 1456 | I7: =H7/5 -> 291.2
B8: ARYS MART | C8: 51 | D8: =C8*103100 -> 5258100 | E8: =C8*1.4 -> 71.4 | F8: =E8*103100 -> 7361340 | G8: =E8*65% -> 46.41 | H8: =G8*40 -> 1856.4 | I8: =H8/5 -> 371.28
B9: GRAND TOTAL | C9: =SUM(C4:C8) -> 427 | D9: =SUM(D4:D8) -> 44023700 | E9: =SUM(E4:E8) -> 597.8 | F9: =SUM(F4:F8) -> 61633180 | G9: =SUM(G4:G8) -> 388.57 | H9: =SUM(H4:H8) -> 15542.8 | I9: =SUM(I4:I8) -> 3108.56
H10: CONVERSI IN CTN | I10: =I9/48 -> 64.761667
B12: Nama Barang | C12: Harga Per Pcs | D12: Harga Per Carton | E12: Kebutuhan | F12: Biaya
B13: Kecap Abc | C13: 1800 | D13: =C13*48 -> 86400 | E13: 65 | F13: =E13*D13 -> 5616000
